BEGIN:VCALENDAR
VERSION:2.0
PRODID:icalendar-ruby
CALSCALE:GREGORIAN
METHOD:PUBLISH
BEGIN:VEVENT
DTSTAMP:20260421T083728Z
UID:98-1088433@yourmainstreetchurch.com
DTSTART:20260424T210000Z
DTEND:20260424T230000Z
CLASS:PUBLIC
CREATED:20260408T122900
DESCRIPTION:Cheer Fundraiser.
LAST-MODIFIED:20260408T122900
LOCATION:81 Main Street\, Fairfield\, ME 04937
SUMMARY:Cheer use of gym
URL;VALUE=URI:https://www.yourmainstreetchurch.com/events/cheer-use-of-gym-
 -98/2026-04-24
END:VEVENT
END:VCALENDAR
