BEGIN:VCALENDAR
VERSION:2.0
PRODID:icalendar-ruby
CALSCALE:GREGORIAN
METHOD:PUBLISH
BEGIN:VEVENT
DTSTAMP:20260421T102114Z
UID:94-852332@yourmainstreetchurch.com
DTSTART;VALUE=DATE:20261010
DTEND;VALUE=DATE:20261010
CLASS:PUBLIC
CREATED:20260217T102900
DESCRIPTION:
LAST-MODIFIED:20260217T102900
LOCATION:Fairfield Church of the Nazarene 81 Main Street Fairfield
SUMMARY:Derek & Marina Wedding
URL;VALUE=URI:https://www.yourmainstreetchurch.com/events/derek-marina-wedd
 ing/2026-10-10
END:VEVENT
END:VCALENDAR
