BEGIN:VCALENDAR
VERSION:2.0
PRODID:icalendar-ruby
CALSCALE:GREGORIAN
METHOD:PUBLISH
BEGIN:VEVENT
DTSTAMP:20260421T101427Z
UID:99-1094052@yourmainstreetchurch.com
DTSTART:20260620T180000Z
DTEND:20260620T220000Z
CLASS:PUBLIC
CREATED:20260409T141443
DESCRIPTION:Gym Use for Party Alex. 
LAST-MODIFIED:20260409T141443
LOCATION:81 Main Street\, Fairfield\, ME 04937
SUMMARY:Gym Use 
URL;VALUE=URI:https://www.yourmainstreetchurch.com/events/gym-use--99/2026-
 06-20
END:VEVENT
END:VCALENDAR
