BEGIN:VCALENDAR
VERSION:2.0
PRODID:icalendar-ruby
CALSCALE:GREGORIAN
METHOD:PUBLISH
BEGIN:VEVENT
DTSTAMP:20260420T170539Z
UID:100-1145606@yourmainstreetchurch.com
DTSTART:20260427T210000Z
DTEND:20260427T234500Z
CLASS:PUBLIC
CREATED:20260420T093940
DESCRIPTION:Gym Use Spring Cheer
LAST-MODIFIED:20260420T093940
LOCATION:Fairfield Church of the Nazarene 81 Main Street Fairfield
SUMMARY:Spring Cheer 
URL;VALUE=URI:https://www.yourmainstreetchurch.com/events/spring-cheer/2026
 -04-27
END:VEVENT
END:VCALENDAR
