BEGIN:VCALENDAR
VERSION:2.0
PRODID:icalendar-ruby
CALSCALE:GREGORIAN
METHOD:PUBLISH
BEGIN:VEVENT
DTSTAMP:20260421T021928Z
UID:100-1145611@yourmainstreetchurch.com
DTSTART:20260514T210000Z
DTEND:20260514T234500Z
CLASS:PUBLIC
CREATED:20260420T093940
DESCRIPTION:Gym Use Spring Cheer
LAST-MODIFIED:20260420T093940
LOCATION:Fairfield Church of the Nazarene 81 Main Street Fairfield
SUMMARY:Spring Cheer 
URL;VALUE=URI:https://www.yourmainstreetchurch.com/events/spring-cheer/2026
 -05-14
END:VEVENT
END:VCALENDAR
